Workbook

Sheet İncelemeler
A1: Rapor Türü | B1: İnceleme Durumu | C1: Ulusal vaka kodu | D1: UKİK kodu | E1: Vaka Başlığı | F1: Raporu Hazırlayan Kuruluş | G1: Vaka Tarihi | H1: Vaka Saati | I1: Vaka Türü | J1: Vaka Açıklaması | K1: Ülke | L1: Konum | M1: Demiryolu Sistem Türü | N1: Hat Tipi | O1: Konum Tipi | P1: Hareket Türü | Q1: Demiryolu Tren İşletmecisi | R1: Demiryolu Altyapı İşletmecisi | S1: Can Kaybı Yolcu | T1: Can Kaybı Personel | U1: Can Kaybı Hemzemin Geçit Kullanıcısı | V1: Can Kaybı Yetkisiz Kişi | W1: Can Kaybı Diğer | X1: Can Kaybı Toplam | Y1: Ağır Yaralı Yolcu | Z1: Ağır Yaralı Personel | AA1: Ağır Yaralı Hemzemin Geçit Kullanıcısı | AB1: Ağır Yaralı Hemzemin Geçit Yetkisiz Kişi | AC1: Ağır Yaralı Diğer | AD1: Ağır Yaralı Toplam | AE1: Tahmini Maddi Hasar | AF1: Hasar Açıklaması | AG1: İnceleme Kararı Dayanağı TR | AH1: İnceleme Kararı Tarihi | AI1: Emniyet Tavsiyesi Sayısı | AJ1: Doğrudan Neden Açıklaması (sistemik faktörler hariç, nedensel ve katkıda bulunan faktörler dahil) | AK1: Alt ve Kök Nedenler Açıklaması (varsa sistemik faktörler) | AL1: İncelemenin Kapanış Tarihi
A2: Nihai rapor | B2: Tamamlandı | C2: TR-1 | D2: R-20150705_01 | E2: =I2&", "&TEXT(G2,"GG.AA.YYYY")&", "&L2&"" -> Çarpışma, 05.07.2015, Çetinkaya | F2: UKİK TR_KAİK | G2: 42190 | H2: 0.81666667 | I2: Çarpışma | J2: Çetinkaya Gar’dan 05 Temmuz 2015 günü saat 19:32’de Malatya istikametine gitmek üzere sarı üzeri sarı sinyal bildirisiyle hareket eden 53026 sefer sayılı yük treni, bir sonraki kırmızı renk bildirisi veren 91 numaralı dur sinyalinde duramayarak sinyal ihlali yapmış ve o sırada müselles hattı üzerinden Divriği yönüne seyreden 53293 sefer sayılı yük treninin 13. vagonuna Koçköprü Köyü karayolu köprüsü altındaki 1 numaralı makas üzerinde yandan çarpmıştır. Çarpışmanın şiddetiyle 53026 sefer sayılı trenin 1 makinisti hayatını kaybederken 1 makinisti ağır yaralanmış, 1 adet lokomotif ile 8 adet vagon deray ederek ıskat olmuştur. Kaza neticesinde katener hattı, trafo, makas ve hat altyapısının yanı sıra demiryolu üzerindeki karayolu köprüsü de tamamen yıkılarak ağır hasara uğramış ve hat 09 Temmuz 2015 tarihine kadar tren trafiğine kapalı kalmıştır. | K2: Türkiye | L2: Çetinkaya | M2: Konvansiyonel | N2: Tek hatlı | O2: İstasyon | P2: Yük treni | Q2: TCDD | R2: TCDD | S2: 0 | T2: 1 | U2: 0 | V2: 0 | W2: 0 | X2: =SUM(S2:W2) -> 1 | Y2: 0 | Z2: 1 | AA2: 0 | AB2: 0 | AC2: 0 | AD2: =SUM(Y2:AC2) -> 1 | AE2: > 2 000 000 € | AF2: Kullanılamaz hale gelen 1 adet DE24000’lik lokomotif bedeli 2.900.000,00 TL, • Kullanılamaz hale gelen 8 adet yük vagonu bedeli 1.020.000,00 TL, • 6 adet beton katener direği, 300 metre seyir teli, 350 metre portör teli, 200 metre fider teli, 150 metre RC geri dönüş teli, 8 adet hoban-konsol takımı hasar bedeli 486.074,00 TL 7 • 1 adet tersten çıkmalı makas motoru, makas motoru kolları, 1 adet magnet (1000-2000), 1 adet EH pano temeli ve 1 adet CB strip hasar bedeli 25.125,00 TL • 2 adet basit makas dili, 25 adet beton makas traversi, 74 adet B-70 tipi beton travers, 2 adet izole conta, 108 metre 60 kg/metrelik ray hasar tutarı 49.469,00 TL, • 1 adet karayolu köprüsü tamamen hasarlıdır. Yeni köprü yapımı maliyeti 1.673.346,00 TL, • Kazada oluşan yük zararları 20.800,00 TL, olmak üzere toplam yaklaşık 6.174.814,00 TL maddi zarar meydana geldiği tespit edilmiştir. • Demiryolu hattı 96 saat trafiğe kapalı kalmıştır. Tehir ve tren iptal zararları tespit edilememiştir. | AG2: DKOAİY 2015 Madde 9 | AH2: 42191 | AI2: 5 | AL2: 42261
A3: Nihai rapor | B3: Tamamlandı | C3: TR-2 | D3: R-20150801_01 | E3: =I3&", "&TEXT(G3,"GG.AA.YYYY")&", "&L3&"" -> Hemzemin geçit, 01.08.2015, Muş-Özden | F3: UKİK TR_KAİK | G3: 42217 | H3: 0.84375 | I3: Hemzemin geçit | J3: 01 Ağustos 2015 tarihinde, saat 20:15 sıralarında, Muş ili Hasköy ilçesi sınırları dâhilindeki Muş-Tatvan demiryolu hattı km 284+280’de yer alan görünürlüğü kısıtlı ve donanımı eksik olan hemzemin geçitte; Elazığ'dan Tatvan'a gitmekte olan 53014 sefer sayılı yük treni, yaklaşırken durmayıp demiryolu hattını kontrol etmeden geçide giren 49 AL 274 plakalı otomobil ile çarpışmıştır. Çarpışma sonucunda otomobilde bulunan 4 kişi hayatını kaybetmiş, 3 kişi yaralanmış; olay sonrası bölgede toplanan kalabalığın tepkisi nedeniyle lokomotifin kumanda mahalli ve camları zarar görerek hasarlanmıştır. | K3: Türkiye | L3: Muş-Özden | M3: Konvansiyonel | N3: Tek hatlı | O3: Açık hat | P3: Yük treni | Q3: TCDD | R3: TCDD | S3: 0 | T3: 0 | U3: 4 | V3: 0 | W3: 0 | X3: =SUM(S3:W3) -> 4 | Y3: 0 | Z3: 0 | AA3: 0 | AB3: 0 | AC3: 0 | AD3: =SUM(Y3:AC3) -> 0 | AE3: < 150 000 € | AF3: 53014 nolu trenin DE 24313 esas lokomotifinin; kaza yeri civarındaki kişilerce camları kırılmış, kumanda mahalli yakılmış ve hasar meydana gelmiştir. DE 24313 esas lokomotifin hasar maliyetiyle ilgili TCDD tarafından düzenlenmiş bir kayda rastlanmamıştır. Demiryolu tesislerinde ve çevrede kayda değer bir zarar meydana gelmemiştir. Karayolu aracı kullanılamayacak hale gelmiş olup kasko değeri yaklaşık 20.000,00 TL’dir. | AG3: DKOAİY 2015 Madde 9 | AH3: 42233 | AI3: 16 | AL3: 42460
A4: Nihai rapor | B4: Tamamlandı | C4: TR-3 | D4: R-20150808_01 | E4: =I4&", "&TEXT(G4,"GG.AA.YYYY")&", "&L4&"" -> Hemzemin geçit, 08.08.2015, Türkoğlu-Beyoğlu | F4: UKİK TR_KAİK | G4: 42224 | H4: 0.58680556 | I4: Hemzemin geçit | J4: 08 Ağustos 2015 tarihinde, saat 05:40 sıralarında, Kahramanmaraş ili Türkoğlu ilçesi sınırları dâhilindeki Köprüağzı-Fevzipaşa demiryolu hattı km 38+960’ta yer alan Türkoğlu-Beyoğlu istasyonları arasındaki hemzemin geçitte; Köprüağzı'ndan Fevzipaşa yönüne doğru seyretmekte olan 53047 sefer sayılı yük treni, yaklaşırken demiryolu hattını kontrol etmeden dikkatsiz şekilde geçide giren 46 HR 227 plakalı otomobil ile çarpışmıştır. Çarpışmanın etkisiyle sürüklenen otomobilde bulunan 1 kişi hayatını kaybetmiş, 1 kişi ise yaralanmıştır. | K4: Türkiye | L4: Türkoğlu-Beyoğlu | M4: Konvansiyonel | N4: Tek hatlı | O4: Açık hat | P4: Yük treni | Q4: TCDD | R4: TCDD | S4: 0 | T4: 0 | U4: 1 | V4: 0 | W4: 0 | X4: =SUM(S4:W4) -> 1 | Y4: 0 | Z4: 0 | AA4: 1 | AB4: 0 | AC4: 0 | AD4: =SUM(Y4:AC4) -> 1 | AE4: < 150 000 € | AF4: Demiryolu araçlarında ve tesislerinde kayda değer bir zarar meydana gelmemiştir. Karayolu aracı kullanılamayacak hale gelmiş olup kasko değeri yaklaşık 60.000,00 TL’dir. Tehir eden trenlerden dolayı yaklaşık 18.000,00 TL maddi zarar meydana gelmiştir. | AG4: DKOAİY 2015 Madde 9 | AH4: 42226 | AI4: 15 | AL4: 42425
A5: Nihai rapor | B5: Tamamlandı | C5: TR-4 | D5: R-20150820_01 | E5: =I5&", "&TEXT(G5,"GG.AA.YYYY")&", "&L5&"" -> Hemzemin geçit, 20.08.2015, Banaz-Uşak | F5: UKİK TR_KAİK | G5: 42236 | H5: 0.15277778 | I5: Hemzemin geçit | J5: 20 Ağustos 2015 tarihinde, saat 03:40 sıralarında, Uşak ili Banaz ilçesi sınırları dâhilindeki Afyon-Uşak demiryolu hattı km 324+735’te yer alan Banaz-Uşak istasyonları arasındaki hemzemin geçitte; Konya-Alsancak seferini yapan 71136 sefer sayılı Konya Mavi Treni, yaklaşırken durmayıp demiryolu hattını kontrol etmeden geçide giren 64 AB 076 plakalı hususi otomobil ile çarpışmıştır. Çarpışmanın etkisiyle sürüklenen araçta bulunan 2 kişi hayatını kaybetmiş, 1 kişi ise ağır yaralanmıştır. | K5: Türkiye | L5: Banaz-Uşak | M5: Konvansiyonel | N5: Tek hatlı | O5: Açık hat | P5: Yolcu treni | Q5: TCDD | R5: TCDD | S5: 0 | T5: 0 | U5: 1 | V5: 0 | W5: 0 | X5: =SUM(S5:W5) -> 1 | Y5: 0 | Z5: 0 | AA5: 1 | AB5: 0 | AC5: 0 | AD5: =SUM(Y5:AC5) -> 1 | AE5: < 150 000 € | AF5: Demiryolu araçlarında ve tesislerinde kayda değer bir zarar meydana gelmemiştir. Karayolu aracı kullanılamayacak hale gelmiş olup kasko değeri yaklaşık 22.000,00 TL’dir. | AG5: DKOAİY 2015 Madde 9 | AH5: 42236 | AI5: 15 | AL5: 42460
A6: Nihai rapor | B6: Tamamlandı | C6: TR-5 | D6: R-20151118_01 | E6: =I6&", "&TEXT(G6,"GG.AA.YYYY")&", "&L6&"" -> Çarpışma, 18.11.2015, Taşkent | F6: UKİK TR_KAİK | G6: 42326 | H6: 0.64236111 | I6: Çarpışma | J6: 18 Kasım 2015 tarihinde Taşkent İstasyonunda manevra yapan “Taşkent Manevra Treni” ile Kayseri-Boğazköprü-Ulukışla-Yenice ve Mersin-Toprakkale Hat Kesimine Elektrifikasyon Kurulumu Kısım IV Yapım İşinde çalışan mobil demiryolu aracı Taşkent İstasyonu 2. yolda saat 15:25’te çarpışmıştır. Mobil demiryolu aracının römorkundaki işçilerden biri vefat etmiş, üç işçi ve bir refakat görevlisi yaralanmıştır. Demiryolu hattında ve çevrede kayda değer bir hasar meydana gelmemiştir. Kazaya karışan mobil demiryolu aracında yaklaşık 81.000,00 TL’lik hasar meydana gelmiştir. | K6: Türkiye | L6: Taşkent | M6: Konvansiyonel | N6: Tek hatlı | O6: İstasyon | P6: Manevra hareketi | Q6: TCDD | R6: TCDD | S6: 0 | T6: 1 | U6: 0 | V6: 0 | W6: 0 | X6: =SUM(S6:W6) -> 1 | Y6: 0 | Z6: 3 | AA6: 0 | AB6: 0 | AC6: 0 | AD6: =SUM(Y6:AC6) -> 3 | AE6: < 150 000 € | AF6: Demiryolu hattında ve çevrede kayda değer bir zarar meydana gelmemiştir. Mobil demiryolu aracında yaklaşık 81.000,00 TL’lik hasar meydana gelmiştir. Tehir eden tren olmamıştır. | AG6: DKOAİY 2015 Madde 9 | AH6: 42333 | AI6: 6 | AL6: 42677
A7: Nihai rapor | B7: Tamamlandı | C7: TR-6 | D7: R-20151121_01 | E7: =I7&", "&TEXT(G7,"GG.AA.YYYY")&", "&L7&"" -> Hemzemin geçit, 21.11.2015, Çiğiltepe-Sandıklı | F7: UKİK TR_KAİK | G7: 42329 | H7: 0.58333333 | I7: Hemzemin geçit | J7: 21 Kasım 2015 tarihinde, Afyonkarahisar-Burdur (Karakuyu) arasında sefer yapan 34014 numaralı yük treni, Çiğiltepe-Sandıklı istasyonları arasında km: 62+357’deki serbest hemzemin geçitten geçişi esnasında saat 14:00 civarında Afyon caddesi üzerinde Sandıklı şehir merkezi istikametinden gelip TOKİ istikametine seyreden 15 DY 361 plakalı araç ile çarpışmıştır. Kazaya karışan aracın sürücüsü ve yanında bulunan bir yolcu olay yerinde yaşamını yitirmiştir. Demiryolu hattında ve çevrede kayda değer bir hasar meydana gelmemiştir. 15 DY 361 plakalı 1992 model Tofaş Doğan marka araç kullanılamayacak duruma gelmiştir. | K7: Türkiye | L7: Çiğiltepe-Sandıklı | M7: Konvansiyonel | N7: Tek hatlı | O7: Açık hat | P7: Yük treni | Q7: TCDD | R7: TCDD | S7: 0 | T7: 0 | U7: 2 | V7: 0 | W7: 0 | X7: =SUM(S7:W7) -> 2 | Y7: 0 | Z7: 0 | AA7: 0 | AB7: 0 | AC7: 0 | AD7: =SUM(Y7:AC7) -> 0 | AE7: < 150 000 € | AF7: Demiryolu hattında ve çevrede kayda değer bir hasar meydana gelmemiştir. Oluşan tehir nedeniyle ise 34014 numaralı tren 75 dakika, 71322 numaralı tren 30 dakika tehir etmiştir. Yaklaşık kasko değeri 4.250,00 TL tutarındaki 1992 model Tofaş Doğan marka otomobil kullanılamaz duruma gelmiştir. | AG7: DKOAİY 2015 Madde 9 | AH7: 42338 | AI7: 8 | AL7: 42712
A8: Nihai rapor | B8: Tamamlandı | C8: TR-7 | D8: R-20160114_01 | E8: =I8&", "&TEXT(G8,"GG.AA.YYYY")&", "&L8&"" -> Hemzemin geçit, 14.01.2016, Velimeşe-Çorlu | F8: UKİK TR_KAİK | G8: 42383 | H8: 0.81597222 | I8: Hemzemin geçit | J8: 14 Ocak 2016 tarihinde, Çerkezköy-Kapıkule arasında sefer yapan 83122 numaralı yük treni, Velimeşe sayding batı çıkışı km. 141+866’daki flaşörlü-çanlı ve otomatik bariyer sistemli hemzemin geçitten geçişi esnasında saat 19:35 civarında Organize Sanayi Bölgesi istikametinden gelip Velimeşe İstasyon Caddesi istikametine seyreden 10 NC 835 plakalı araç ile çarpışmıştır. Kazaya karışan 10 NC 835 plakalı aracın sürücüsü ağır yaralı olarak kaldırıldığı Çorlu Devlet Hastanesinde yaşamını yitirmiştir. Demiryolu hattında ve çevrede kayda değer bir hasar meydana gelmemiştir. 10 NC 835 plakalı Fiat Siena marka araç kullanılamayacak duruma gelmiştir. | K8: Türkiye | L8: Velimeşe-Çorlu | M8: Konvansiyonel | N8: Tek hatlı | O8: Açık hat | P8: Yük treni | Q8: TCDD | R8: TCDD | S8: 0 | T8: 0 | U8: 1 | V8: 0 | W8: 0 | X8: =SUM(S8:W8) -> 1 | Y8: 0 | Z8: 0 | AA8: 0 | AB8: 0 | AC8: 0 | AD8: =SUM(Y8:AC8) -> 0 | AE8: < 150 000 € | AF8: Lokomotifin çarpma etkisiyle çeşitli aksamlarında meydana gelen hasarları ile tamirat ve işçilik giderleri toplamı 12.989,96 TL’dir. Oluşan tehir nedeniyle ise 83122 tren 215 dakika, 83124 tren 112 dakika tehir etmiş olup tehir tazminat tutarı 6.466,23 TL’dir. Yaklaşık kasko değeri 14.000,00 TL tutarındaki Fiat Siena marka otomobil kullanılamaz duruma gelmiştir. | AG8: DKOAİY 2015 Madde 9 | AH8: 42384 | AI8: 11 | AL8: 42677
A9: Nihai rapor | B9: Tamamlandı | C9: TR-8 | D9: R-20160118_01 | E9: =I9&", "&TEXT(G9,"GG.AA.YYYY")&", "&L9&"" -> Hemzemin geçit, 18.01.2016, Böğecik-Ereğli | F9: UKİK TR_KAİK | G9: 42387 | H9: 0.69375 | I9: Hemzemin geçit | J9: 18 Ocak 2016 tarihinde Karaman-Adana seferini yapan 71306 nolu Toros Ekspresi Böğecik İstasyonundan Ereğli İstasyonu yönüne gitmek üzere saat 16:24’te hareket ederek Böğecik-Ereğli İstasyonları arasındaki km 187+940’da bulunan serbest hemzemin geçitten geçerken saat 16:39’da, Mehmet Akif Mahallesi Taşevler istikametinden gelerek serbest hemzemin geçide giren 42 ENZ 78 plakalı otomobille çarpışmıştır. 42 ENZ 78 plakalı otomobilde bulunan araç sürücüsü 1972 doğumlu (44 yaşında) erkek şahıs Ereğli Devlet Hastanesine ağır yaralı olarak kaldırılmış, aynı gün hastanede hayatını kaybetmiştir. Kaza sonucu demiryolu araçlarında, demiryolu hattında ve çevrede kayda değer bir hasar meydana gelmemiştir. Kazaya karışan 42 ENZ 78 plakalı Daewoo marka otomobil kullanılamayacak duruma gelmiştir. | K9: Türkiye | L9: Böğecik-Ereğli | M9: Konvansiyonel | N9: Tek hatlı | O9: Açık hat | P9: Yolcu treni | Q9: TCDD | R9: TCDD | S9: 0 | T9: 0 | U9: 1 | V9: 0 | W9: 0 | X9: =SUM(S9:W9) -> 1 | Y9: 0 | Z9: 0 | AA9: 0 | AB9: 0 | AC9: 0 | AD9: =SUM(Y9:AC9) -> 0 | AE9: < 150 000 € | AF9: 71306 trenin temininde kullanılan DMU 30021 tren setinde yaklaşık 2.600,00 TL tutarında bir hasar meydana gelmiştir. Karayolu aracı kullanılamayacak hale gelmiş olup kasko değeri yaklaşık 12.000,00 TL’dir. | AG9: DKOAİY 2015 Madde 9 | AH9: 42388 | AI9: 16 | AL9: 42516
A10: Nihai rapor | B10: Tamamlandı | C10: TR-9 | D10: R-20160314_01 | E10: =I10&", "&TEXT(G10,"GG.AA.YYYY")&", "&L10&"" -> Hemzemin geçit, 14.03.2016, Dilek-Yazıhan | F10: UKİK TR_KAİK | G10: 42443 | H10: 0.29166667 | I10: Hemzemin geçit | J10: 14 Mart 2016 tarihinde, Malatya-Hekimhan arasında sefer yapan 53255 numaralı yük treni; Dilek-Yazıhan istasyonları arasında demiryolu km: 13+420’deki serbest hemzemin geçitten geçişi esnasında, saat 07:00 civarında, Sakarya sokak üzerinde, Dilek mahallesi meydanı istikametine seyreden 44 PV 701 plakalı öğrenci servis minibüsü ile çarpışmıştır. Kazaya karışan araçta bulunan yolculardan 13 yaşındaki bir öğrenci olay yerinde yaşamını yitirmiş, aracın 39 yaşındaki sürücüsü ile yanında bulunan yolculardan 11-18 yaş aralığında ve tamamı öğrenci olan 22 kişi yaralanmıştır. Demiryolu hattında yaklaşık 1345,20 TL değerinde maddi hasar meydana gelmiştir. Çevrede kayda değer bir maddi hasar bulunmamaktadır. 44 PV 701 plakalı Volkswagen LT 35 marka minibüs kullanılamayacak duruma gelmiştir. | K10: Türkiye | L10: Dilek-Yazıhan | M10: Konvansiyonel | N10: Tek hatlı | O10: Açık hat | P10: Yük treni | Q10: TCDD | R10: TCDD | S10: 0 | T10: 0 | U10: 1 | V10: 0 | W10: 0 | X10: =SUM(S10:W10) -> 1 | Y10: 0 | Z10: 0 | AA10: 22 | AB10: 0 | AC10: 0 | AD10: =SUM(Y10:AC10) -> 22 | AE10: < 150 000 € | AF10: Demiryolu hattında ve çevrede yaklaşık 1345,20 TL değerinde maddi hasar meydana gelmiştir. Oluşan tehir nedeniyle ise 53255 numaralı tren 185 dakika, 21124 numaralı tren 67 dakika, 53286 numaralı tren 240 dakika, 53290 numaralı tren 160 dakika tehir etmiştir. 44 PV 701 plakalı Volkswagen LT 35 marka minibüs kullanılamaz duruma gelmiştir. | AG10: DKOAİY 2015 Madde 9 | AH10: 42443 | AI10: 10 | AL10: 42754
A11: Nihai rapor | B11: Tamamlandı | C11: TR-10 | D11: R-20160313_01 | E11: =I11&", "&TEXT(G11,"GG.AA.YYYY")&", "&L11&"" -> Hemzemin geçit, 13.03.2016, Ceyhan-Yakapınar | F11: UKİK TR_KAİK | G11: 42442 | H11: 0.39583333 | I11: Hemzemin geçit | J11: 13 Mart 2016 tarihinde Islahiye-Mersin seferini yapan 61603 nolu yolcu treni Ceyhan İstasyonundan Yakapınar İstasyonu yönüne gitmek üzere saat 09:21’de hareket ederek Ceyhan Yakapınar İstasyonları arasındaki km 401+750’de bulunan serbest hemzemin geçitten geçerken saat 09:30’da, Adana-Osmaniye Karayolu istikametinden gelerek hemzemin geçite giren 01 ZJ 973 plakalı traktörle çarpışmıştır. 01 ZJ 973 plakalı traktörde bulunan araç sürücüsü 1956 doğumlu (60 yaşında) erkek şahıs 112 acil ekiplerince ağır yaralı olarak hastaneye kaldırılmış, aynı gün hastanede hayatını kaybetmiştir. Kaza sonucu demiryolu araçlarında, demiryolu hattında ve çevrede kayda değer bir hasar meydana gelmemiştir. Kazaya karışan 01 ZJ 973 plakalı traktör kullanılamayacak duruma gelmiştir. | K11: Türkiye | L11: Ceyhan-Yakapınar | M11: Konvansiyonel | N11: Tek hatlı | O11: Açık hat | P11: Yolcu treni | Q11: TCDD | R11: TCDD | S11: 0 | T11: 0 | U11: 1 | V11: 0 | W11: 0 | X11: =SUM(S11:W11) -> 1 | Y11: 0 | Z11: 0 | AA11: 0 | AB11: 0 | AC11: 0 | AD11: =SUM(Y11:AC11) -> 0 | AE11: > 2 000 000 € | AF11: 61603 trenin temininde kullanılan DE 24369 nolu lokomotifin hasar maliyeti yaklaşık 3.457,40 TL‘dir. Tren tehirlerinden kaynaklı maddi kayıp yaklaşık 10.429,50 TL’dir. Karayolu aracı kullanılamayacak hale gelmiş olup değeri yaklaşık 20.000,00 TL’dir. | AG11: DKOAİY 2015 Madde 9 | AH11: 42453 | AI11: 8 | AL11: 42754
A12: Nihai rapor | B12: Tamamlandı | C12: TR-11 | D12: R-20160412_01 | E12: =I12&", "&TEXT(G12,"GG.AA.YYYY")&", "&L12&"" -> Deray, 12.04.2016, Üsküdar | F12: UKİK TR_KAİK | G12: 42472 | H12: 0.32777778 | I12: Deray | J12: 12 Nisan 2016 tarihinde Marmaray Ayrılıkçeşmesi İstasyonundan Kazlıçeşme İstasyonu istikametine Hat-2’den gitmekte olan 10023 numaralı tren Ayrılıkçeşmesi - Üsküdar İstasyonları arasında kalan Üsküdar doğu giriş km: 48+364 de bulunan ve Marmaray Hat-2’den Hat-1’e geçişi sağlayan “S” makas üzerindeki M02 numaralı oynar göbekli basit makas üzerinde makasın göbek bölgesinde saat 07:52’de deray etmiştir. (Resim 1-2-3) Herhangi bir ölüm veya yaralanmanın olmadığı kaza sonrasında saat 08:20 itibari ile 10023 sefer numaralı trenin yolcuları Marmaray Üsküdar İstasyonuna tahliye edilmiştir. Kaza sonrası saat 08:40’tan itibaren Ayrılıkçeşmesi-Üsküdar arası Hat-1’den 10 dakika ara ile işletmeciliğe başlanmıştır. Üsküdar-Kazlıçeşme istasyonları arasında ise Üsküdar istasyonunda aktarma yapmak suretiyle yolcu taşımacılığına devam edilmiştir. Bu süreçte Ayrılıkçeşmesi Üsküdar arası Hat-2 kullanılamamıştır. Kaza sonrası olay yerine gelen TCDD Sirkeci Loko Bakım Atölye Müdürlüğü kurtarma aracı ve imdat ekibi tarafından deray saat 17:10’da kaldırılmış, yapılan tamirat ve hattın temizlenmesi sonrasında kapalı olan hat kesimi 13 Nisan 2016 tarihinde saat 06:20’da tren trafiğine açılmıştır. | K12: Türkiye | L12: Üsküdar | M12: Banliyö | N12: Çift hatlı | O12: İstasyon | P12: Banliyö treni | Q12: TCDD | R12: TCDD | S12: 0 | T12: 0 | U12: 0 | V12: 0 | W12: 0 | X12: =SUM(S12:W12) -> 0 | Y12: 0 | Z12: 0 | AA12: 0 | AB12: 0 | AC12: 0 | AD12: =SUM(Y12:AC12) -> 0 | AE12: < 150 000 € | AF12:  Kullanılamaz hale gelen 2 adet UIC 60 E1 Ray (18 m.) bedeli 4.428,00 TL,  Kullanılamaz hale gelen 30 adet LVT2 Blok Beton Travers bedeli 9.650,10 TL,  Kullanılamaz hale gelen 80 adet Tirfon bedeli 260,00 TL,  İşçilik bedeli 2.671,50 TL, Olmak üzere altyapıda toplam yaklaşık 17.000,00 TL maddi zarar meydana geldiği tespit edilmiştir. (Resim 4-5)  E 32007 Ünite 1. Vagon (MCF1) 2 adet boji deray neticesi hasarlı  E 32007 Ünite 2. Vagon (TS) 1. Boji deray neticesi hasarlı  E 32007 Ünite 1. Vagon CBTC anteni hasarlı Olup ünitelerde meydana gelen maddi zarar bilgisine ulaşılamamıştır. | AG12: DKOAİY 2015 Madde 9 | AH12: 42472 | AI12: 5 | AL12: 42677
A13: Nihai rapor | B13: Tamamlandı | C13: TR-12 | D13: R-20160602_01 | E13: =I13&", "&TEXT(G13,"GG.AA.YYYY")&", "&L13&"" -> Hemzemin geçit, 02.06.2016, Gökçebey-Çaycuma | F13: UKİK TR_KAİK | G13: 42523 | H13: 0.064583333 | I13: Hemzemin geçit | J13: 2 Haziran 2016 tarihinde Karabük-Zonguldak seferini yapan 24236 nolu yük treni; Gökçebey-Çaycuma İstasyonları arası Ahatlı Köyü Mevkiinde km 367+079’da bulunan hemzemin geçitten geçerken saat 01:33’de, Çaycuma istikametinden gelerek 67-25 nolu il yolundan Perşembe Beldesine seyreden 78 SH 179 plakalı otomobille çarpışmıştır. 78 SH 179 plakalı otomobilde bulunan araç sürücüsü 27 yaşındaki erkek şahıs ağır yaralı olarak kaldırıldığı Çaycuma Devlet Hastanesinde aynı gün hastanede hayatını kaybetmiş, ön yolcu koltuğunda oturan sürücünün 50 yaşındaki kayınpederi kaza yerinde hayatını kaybetmiştir. Otomobilin arka koltuğunda oturan sürücünün eşi 24 yaşında ve 1,5 aylık oğlu ağır yaralı olarak Zonguldak Bülent Ecevit Üniversitesi Tıp Fakültesine kaldırılmıştır. Kaza sonucu demiryolu araçlarında, demiryolu hattında ve çevrede kayda değer bir hasar meydana gelmemiştir. Kazaya karışan 78 SH 179 plakalı Renault marka otomobil kullanılamayacak duruma gelmiştir. | K13: Türkiye | L13: Gökçebey-Çaycuma | M13: Konvansiyonel | N13: Tek hatlı | O13: Açık hat | P13: Yük treni | Q13: TCDD | R13: TCDD | S13: 0 | T13: 0 | U13: 2 | V13: 0 | W13: 0 | X13: =SUM(S13:W13) -> 2 | Y13: 0 | Z13: 0 | AA13: 2 | AB13: 0 | AC13: 0 | AD13: =SUM(Y13:AC13) -> 2 | AE13: < 150 000 € | AF13: Demiryolu araçlarında ve tesislerinde kayda değer bir zarar meydana gelmemiştir. Karayolu aracı kullanılamayacak hale gelmiş olup kasko değeri yaklaşık 14.000,00 TL’dir. Tehir eden trenlerden dolayı 11.083,15 TL maddi zarar meydana gelmiştir. | AG13: DKOAİY 2015 Madde 9 | AH13: 42523 | AI13: 7 | AL13: 42712
... A49: Nihai rapor | B49: Tamamlandı | C49: TR-48 | D49: R-20231014_01 | E49: =I49&", "&TEXT(G49,"GG.AA.YYYY")&", "&L49&"" -> Deray, 14.10.2023, Kayaş | F49: UKİK TR_UEİM | G49: 45213 | H49: 0.11944444 | I49: Deray | J49: Ankara – Sivas YHT hattının Kayaş – Balışeyh (Km: 12+510 – 90+650) arasında Hat-1'de 110 km/s olan seyir hızının 250 km/s hıza çıkarılması için dinamik testler yapılması planlanmıştır. Hat-1 için testin planlandığı 13 Ekim 2023 günü test treni (CAF seti) Eryaman YHT Depodan çıkarak saat 21:41’de Kayaş’a ulaşmıştır. Test esnasında YHT hatlarından geçirilerek Elmadağ’a gönderilmesi planlanan oto, testin 2. turu için test treninin Kayaş’tan çıkmasını müteakip 23:39’da hareket etmiş ancak ilerleyemeden 23:54’de Kayaş’a dönmüştür. Testin 4. turu için 14 Ekim 2024 günü saat 02:00’de Kayaş’tan hareket eden test treninin ardından oto; saat 02:10’da hareketle Hat-1 yolunu terk edip Hat-2 km:15+600’de saat 02:46’da beklemeye başlamıştır. Otoyu Hat-1 yolundan Hat-2 yoluna yönlendiren M101 makasta meydana gelen arıza nedeniyle yol Hat-2’ye tanzimli kalmış ve Sivas yönünden gelen test trenine sinyal açılamamıştır. 89601 tren numaralı test treni saat 02:49’da yeşil bildiri veren BS231 sinyali, 02:51’de sarı bildiri veren KBS181 sinyali, saat 02:52’de kırmızı bildiri veren S01N sinyali geçmiştir. 14+785’te bulunan Hat-2’ye tanzimli M101 makasın ökçe ucundan 144 km/s süratle geçtiği sırada saat 02:52:44’te deray etmiştir. Test treni deray başlangıcı olan makasın iğne kısmından yaklaşık 335 metre sonra durmuştur. Tren setinin tamamı deray etmiş, öndeki dört vagonu sağa doğru yan yatmıştır. Kazada can kaybı olmayıp 4 personel hafif yaralanmıştır. Altyapıda ve YHT setinde ciddi boyutta maddi hasar meydana gelmiştir. | K49: Türkiye | L49: Kayaş | M49: Yüksek Hızlı Tren (YHT) | N49: Çok hatlı | O49: İstasyon | P49: YHT | Q49: TCDDT | R49: TCDD | S49: 0 | T49: 0 | U49: 0 | V49: 0 | W49: 0 | X49: =SUM(S49:W49) -> 0 | Y49: 0 | Z49: 0 | AA49: 0 | AB49: 0 | AC49: 0 | AD49: =SUM(Y49:AC49) -> 0 | AE49: > 2 000 000 € | AF49: 1.2.3.2. Altyapıda Oluşan Zararlar Elektrifikasyon sistemlerinde meydana gelen zararların telafisi için DAİ tarafından yapım işi ihale edilmiştir. Kaza, YHT Hat-1’de meydana gelmiş ancak katener hatlarının bu hat kesiminde portal tipi sistem olması nedeniyle portal direklerinin hasarı Hat-2, K-1, K-2 yollarına da zarar vermiştir. Söz konusu işlerin bedeli olarak ₺16.551.456,00 sözleşme bedeli belirlenmiştir. Sinyalizasyon sistemlerinde oluşan zararın giderilmesi için yapılan “Sapanı 160 km/h ye Uygun Oynar Göbekli Makas için Makas Tahrik, Kilitleme ve Tahkik Ekipmanı (Montaja ilişkin tüm bileşenler dahil)” maliyet cetvelinde belirlenen bedel ₺4.520.221,14’dir. Yoldaki raylar, makaslar, traversler ve diğer yol bileşenleri için malzeme ve işçilik bedeli olarak ₺11.140.583,14 harcama yapıldığı bildirilmiştir. Altyapıda meydana gelen zararların toplam karşılığı ₺32.212.260,28’dir. 1.2.3.3. Araçlarda Oluşan Zararlar Kazaya karışan YHT test trenini temin eden HT65006 set için DTİ tarafından hasar tespit komisyonu kurulmuştur. Komisyon tarafından setteki her bir vagon gözle muayene edilmiş, iç ve dış aksamlar, alt aksamlar ile çatı aksamlarında meydana gelen hasarlar tespit edilmiştir. Set enerjilendirilemediğinden sıcak kontrolleri yapılamadığı bildirilmiştir. Tespit edilen hasarların maddi boyutuyla ilgili bildirim yapılmamıştır. 1.2.3.4. Yolun Kapalı Kalması Nedeniyle Meydana Gelen Tren İptalleri ve Tehirleri 14-15-16 Ekim 2023 tarihlerinde yolun kapalı kalması nedeniyle Ankara-Sivas-Ankara arasında işletilen 22 YHT treni toplam 758 dakika tehir etmiş bu tehirlerin maliyeti ₺596.800,58 olarak bildirilmiştir. 81401,81402,81403,81404,81405,81406, 81422 ve 81423 numaralı YHT trenlerine ait yolcular Ankara’dan Kırıkkale’ye ve Kırıkkale’den Ankara’ya toplam 91 adet otobüs ile seyahatleri sağlanmıştır. Toplamda 6601 YHT yolcusu taşınmıştır. YHT ve Konvansiyonel yolcular için otobüs firmasına ₺1.430.151,30 ödendiği bildirilmiştir. Yolun kapalı kalması nedeniyle meydana gelen tren iptalleri ve tehirlerinin toplam maddi karşılığı ₺2.026.951,88’dir. 1.2.3.5. Toplam Maddi Zarar Kaza nedeniyle HT65006 setteki ağır hasar hariç olmak üzere meydana gelen toplam maddi zarar ₺34.239.212,16’dir. | AG49: DKOAİY 2019 Madde 7.1.a | AH49: 45216 | AI49: 8 | AL49: 45551
A50: Nihai rapor | B50: Tamamlandı | C50: TR-49 | D50: R-20241028_01 | E50: =I50&", "&TEXT(G50,"GG.AA.YYYY")&", "&L50&"" -> Çarpışma, 28.10.2024, Muş-Kurt | F50: UKİK TR_UEİM | G50: 45593 | H50: 0.50972222 | I50: Çarpışma | J50: 28 Ekim 2024 tarihinde Tatvan-Elazığ seferini yapan 52601 numaralı Yolcu Treni, Muş İli, Merkez İlçesi, Muş-Kurt İstasyonları arası seyri esnasında saat 12:14’te, Km 272+600’de trapez kanal yapım işi için görevli Hizmet Sağlayıcı Kuruluşa (Yüklenici) ait beton pompası bomuna çarpmıştır. 52601 numaralı tren 28 Ekim 2024 tarihinde saat 10:30’da Tatvan İstasyonu’ndan Elazığ yönüne doğru hareket etmiştir. Trapez kanal yapım işi sebebiyle görevli HSK personelleri sabah saatlerinde Km:272+600’de çalışmaya başlamışlardır. Saat 10:00 civarı başka bir trenin geleceği bilgisini almışlar ve 10:30’a kadar çalışmaya ara vermişlerdir. 52601 numaralı tren saat 12:08’de Muş İstasyonu’na gelmiştir. Jeneratör vagonunda görevli makinist Muş İstasyonu veya daha önceki bir istasyonda görev yerini terk etmiş ve 52601 numaralı trenin DE24152 lokomotif kabinine gelmiştir. Muş Hareket Memuru ile telsiz görüşmesi yapılmış ve hız kısıtlamasının Km:73+000-71+000 arasında olduğu bilgisi alındıktan sonra saat 12:10’da Muş İstasyonu’ndan ayrılmıştır. Beton pompası bomu gabari dahiline girmiş ve bu şekilde çalışmaya devam edildiği esnada saat 12:14’te 52601 numaralı tren km:272+600’de beton pompasının bomuna çarpmıştır. Çarpmanın etkisiyle DE24152 lokomotif kabini içindeki personelleri ile birlikte yerinden ayrılmış ve hattın soluna savrulmuştur. Beton pompası sol tarafına doğru yan yatmıştır. 52601 numaralı tren çarptıktan yaklaşık 180 metre sonra durmuştur. Trende herhangi bir deray meydana gelmemiştir. Kaza neticesinde 1 makinist olay yerinde hayatını kaybetmiş, 2 makinist yaralanmıştır. Yaralı makinistler hastaneye sevk edilmiştir. Lokomotifte ağır hasar meydana gelmiştir. 52601 numaralı yolcu treninde bulunan yolcular karayoluna yönlendirilerek tahliyesi gerçekleştirilmiştir. Saat 16:20’de 52601 numaralı tren Muş İstasyonu’na çekilerek yol tren trafiğine açılmıştır. | K50: Türkiye | L50: Muş-Kurt | M50: Konvansiyonel | N50: Tek hatlı | O50: Açık hat | P50: Yolcu treni | Q50: TCDDT | R50: TCDD | S50: 0 | T50: 1 | U50: 0 | V50: 0 | W50: 0 | X50: =SUM(S50:W50) -> 1 | Y50: 0 | Z50: 1 | AA50: 0 | AB50: 0 | AC50: 0 | AD50: =SUM(Y50:AC50) -> 1 | AE50: 150 000 - 2 000 000 € | AF50: DE24152 numaralı lokomotifte ortaya çıkan zararlar ve maddi karşılığı bildirilmemiştir.49 AF 351 plakalı beton pompasında ortaya çıkan zararlar ve maddi karşılığı bildirilmemiştir.Kaza nedeni ile kapalı kalan süre zarfında 22012 numaralı tren 183 dakika, 53050 numaralı tren 121 dakika tehir etmiştir. Tehirler nedeniyle ortaya çıkan zararların maddi karşılığı bildirilmemiştir.Kaza nedeniyle DE24152 numaralı lokomotifte meydana gelen ağır hasar maliyeti hariç olmak üzere lokomotif gabari harici parçalarının kesimi, soğuk sevke hazırlama, yolcu aktarımı, ikram ve tehir maliyeti ₺565.840,65’dir. | AG50: DKOAİY 2019 Madde 7.1.a | AH50: 45595 | AI50: 2 | AJ50: NF-1: Muş-Kurt İstasyonları Km:272+600’de trapez kanal yapım işi için çalışan beton pompasının bomu gabari dahiline girmiştir. Gabariyi ihlal eden boma çarpan 52601 numaralı trenin hızı livrede 60 km/s olmasına rağmen kaza anındaki hızı yaklaşık 69 km/s’dir. KF-1:Muş YBO Şefi; HSK sahada sabah saatlerinde işe başladıktan sonra saat 11:00’de sistemden trafik birimlerine Km:273+000-271+000 arası 30km/s hız kısıtlaması olduğunu bildirmiştir. KF-2:Muş Hareket Memuru hız kısıtlama bölgesini Km:73+000-71+000 arası olduğunu bildirmiştir. Kaza yeri Km:273+000-271+000 arasındadır. Hız kısıtlama bildirimini yazılı imza karşılığı vermesi gerekirken telsizle yapmıştır. KF-3:Tren Trafik Sorumlusu imza karşılığı alması gereken hız kısıtlama bildirimini telsizle almıştır. KF-4:Tren Makinisti imza karşılığı alması gereken hız kısıtlama bildirimini telsizle almıştır. KF-5: Beton pompa operatörü ve yağcısı 52601 numaralı trenin geleceği bilgisini almadan çalışmaya devam etmiştir. KF-6: 52601 numaralı trenin kumandasındaki makinist seyir esnasında en az 100 saniye boyunca (Muş İstasyonu ile kaza yeri arası 131 saniyelik video kaydında) cep telefonu ile meşgul olmuştur. KF-7: Kumandadaki makinistin seyir esnasında cep telefonu ile meşgul olmasına karşın kabinde bulunan 2. makinist ve jeneratör makinisti herhangi bir aksiyon almamıştır. KF-8: 52601 numaralı trenin kumandasındaki makinist hız kısıtlaması bulunan bölgede izin verilen hızı aşmasına rağmen 2.makinist, jeneratör makinisti ve tren trafik sorumlusu herhangi bir aksiyon almamıştır. KF-9 Jeneratör makinisti Muş veya daha önceki bir yerde jeneratördeki görev yerini terk edip DE24152 lokomotif kabininde, ikinci makinist koltuğunda seyahat etmeye başlamıştır. | AK50: SF-1: İşin yürütülmesinden sorumlu birim, 551 Numaralı Genel Emrin 11 inci maddesinin birinci fıkrasının (c) bendinin 1. alt bendinde belirtilen ve koyulması gereken işaretleri (hız kısıtlama levhası) koydurmamıştır. SF-2: HSK personeli olan Emniyet Yöneticisinin kaza inceleme grubunun kaza yeri inceleme çalışmalarında beyanı alınmak istenmiş ancak ulaşılamamıştır. Beyanını almak üzere UEİM Merkezine resmi yazı ile davet edilmiş ancak geri dönüş yapılmamıştır. Kaza günü şantiyede bulunup bulunmadığına dair bir kanıta ulaşılamamıştır. SF-3: Refakat Görevlisi beyanına göre; şantiyede refakat görevlisi olarak görev yapması gerektiği kendisine tebliğ edilmediği için kaza günü de dahil olmak üzere şantiyede hiç bulunmamıştır. Kaza günü 28 Ekim olduğu için yarım gün çalışmış, bu sebeple yola gitmemiş, Muş İstasyondaki barakada ekibine küçük malzeme bakımı işini yaptırmıştır. Yakınının cenazesi sebebiyle saat 10-11 civarında amirlerinden izin alıp işyerinden ayrılmıştır. SF-4: İşin yürütülmesinden sorumlu birim ile HSK birlikte imza attıkları haftalık iş planında; çalışmaların emniyetli bölgede yürütüleceğine dair planlamalar yapmıştır. Ancak beton pompa bomu kaza anında kırmızı bölgede çalışmıştır. SF-5: Beton pompası operatörü ve yağcısı dahil olmak üzere kaza günü sahada olan personel, Emniyet Planında bildirilen kişiler olmadığı gibi kendilerinin “Demiryolu Hattında Çalışma Belgesi” bulunmamaktadır. | AL50: 45831
A51: Nihai rapor | B51: Tamamlandı | C51: TR-50 | D51: R-20250910_01 | E51: =I51&", "&TEXT(G51,"GG.AA.YYYY")&", "&L51&"" -> Çarpışma, 10.09.2025, Ulugüney-Hasançelebi | F51: UKİK TR_UEİM | G51: 45910 | H51: 0.46041667 | I51: Çarpışma | J51: 10 Eylül 2025 tarihinde, saat 11:03’te Malatya ili Hekimhan ilçesi sınırlarındaki tek hatlı Hasançelebi-Ulugüney arası demiryolu hattının km 85+950 noktasında, TCDDT 63658 numaralı yük treni ile OMSAN manevra dizisi kafa kafaya çarpışmıştır. Kaza, Ulugüney yönünden Malatya istikametine seyreden ve 16 adedi motorin yüklü sarnıç vagon olmak üzere toplam 78 dingilden oluşan TCDDT 63658 yük treninin, Hasançelebi İstasyonu'nun Ulugüney tarafında manevra operasyonunu sürdüren OMSAN manevra dizisinin ana hattı işgal ettiği kesime girmesiyle gerçekleşmiştir. Trafik Kontrol Merkezi izniyle yürütülen manevra sırasında hattın işgal altında bulunmasına rağmen TCDDT 63658 trenine seyrine devam izni verilmesi kazaya sebebiyet vermiştir. Çarpışma sonucunda her iki tren birbirinin hızını sönümleyerek durmuş, manevra dizisinde deray yaşanmazken; TCDDT 63658 treninin öndeki E68079 lokomotifi durmuş, ancak darbe kuvvetiyle arkasındaki emniyet vagonu ile bir adet sarnıç vagonu raydan çıkarak devrilmiştir. Yırtılan sarnıç vagonundan yaklaşık 60 ton motorin yola dökülmüş, olayda can kaybı veya yaralanma yaşanmazken hat 35 saat boyunca tren trafiğine kapalı kalmıştır. | K51: Türkiye | L51: Ulugüney-Hasançelebi | M51: Konvansiyonel | N51: Tek hatlı | O51: Açık hat | P51: Yük treni | Q51: TCDDT, OMSAN | R51: TCDD | S51: 0 | T51: 0 | U51: 0 | V51: 0 | W51: 0 | X51: =SUM(S51:W51) -> 0 | Y51: 0 | Z51: 0 | AA51: 0 | AB51: 0 | AC51: 0 | AD51: =SUM(Y51:AC51) -> 0 | AE51: 150 000 - 2 000 000 € | AF51: Kaza nedeniyle altyapıda meydana gelen maddi hasar bildirilmemiştir. Hasançelebi-Ulugüney arası hattı cari 35 saat tren trafiğine kapalı kalmıştır. TCDDT 63658 trenin E68079 lokomotifi tampon, boji ve fren hattı tamamen hasar almıştır. Hasarın maddi karşılığı bildirilmemiştir. OMSAN manevra dizisinin E43039 lokomotifi hasar almıştır. Hasarın detayları ve maddi karşılığı bildirilmemiştir. TCDDT 63658 nolu trendeki 31757834 019-0 nolu yük vagonu ıskat bedeli ₺ 6.263.510,00. TCDDT 63658 nolu trendeki 3175 4701181-5 nolu yük vagonu ıskat bedeli ₺ 2.443.485,00 TCDDT 63658 trenin 31757834 019-0 nolu yük vagonundaki 56489 litre motorin kaza yerine dökülmüştür. TCDDT tarafından bildirilen deray kaldırma maliyeti ₺ 2.841.930,99 • OMSAN herhangi bir bildirim yapmamıştır. TCDDT kaza nedeni ile kapalı kalan süre zarfında 25 tren kısmen veya tamamen çalıştırmamıştır. İptal ve tehirler nedeniyle ortaya çıkan zararların maddi karşılığı bildirilmemiştir. • OMSAN herhangi bir bildirim yapmamıştır. • Harici DTİ’lerin iptal veya tehirleri hakkında bilgi bulunmamaktadır. TCDDT tarafından bildirilen yolcu aktarma maliyeti ₺ 197.775,00’dir. • OMSAN herhangi bir bildirim yapmamıştır. ₺ 11.746.700,99 TOPLAM | AG51: DKOAİY 2019 Madde 7.1.b | AH51: 45915 | AI51: 10 | AJ51: NF-1: Hasançelebi-Ulugüney arası tek hattı cariye aynı anda karşı yönlü iki tren kabul edilmiştir. KF-1: Manevra için bölge ve zaman izni prosedürü TK ve OMSAN tren makinistleri tarafından uygulanmamıştır. KF-2: Manevra için TK ve OMSAN tren makinistleri arasındaki görüşmeler telefon üzerinden yürütülmüştür. Bu paragraf doğrudan bir kural ihlali veya hatayı kastetmeden kazanın gelişimine katkıda bulunan bir faktör olarak değerlendirilmiştir. | AK51: SF-1:Hasançelebi’de maden faaliyetleri başlamadan önce herhangi bir değişiklik yönetim süreci işletilmemiştir. SF-2: Trafik kontrolörleri, performans–emniyet çatışmasını yönetememiş; emniyet yerine akıcılığı önceleyen bilinçli ihlaller rasyonelleşmiştir. Manevra ile ana hat trafiği etkileşimleri ise yüksek riskli olarak yeterince kritik görülmemiştir. SF-3: OMSAN’ın, emniyet kritik görev yürüten tren makinistine ait sağlık raporlarının kayıt ve kontrol süreçlerinde eksiklikler bulunmaktadır. SF-4: Ana hat lokomotifleri ile yapılan manevrada bir tren makinist ve bir yardımcı tren makinisti bulunması gerekirken OMSAN manevra dizisindeki ana hat lokomotifi kabininde yalnızca bir tren makinisti bulunmuştur. GF-1: THTY’nin kesin hükmüne rağmen; Hasançelebi maden dolum işlemlerinden sonra servise verilecek trenler revizör veya vagon teknisyenleri olmadan hazırlanmaktadır. Bu görevlerin Tren Makinistleri tarafından yürütülebileceği şeklinde örtük bir kabul ile herhangi bir tedbir geliştirilmemiştir. GF-2: Hareket Memurunun sahadaki görevleri (tren hazırlatma, sevk, Trafik Kontrolörü irtibatı, model hazırlama/teslim) örtük biçimde Trafik Kontrolörlerine ve yerelde DTİ’ler üzerinden makinistlere devredilerek trafik düzenlemesi yapılmıştır; bu durum açıkça tarif edilmese de gözlemsel bir faktör olarak tespit edilmiştir. | AL51: 46106

Sheet Emniyet_Tavsiyeleri
A1: Yeni Emniyet Tavsiyesi ID | B1: Emniyet Tavsiyesi Başlığı | C1: Yayım Tarihi | D1: Emniyet tavsiyesi metni | E1: Dil | F1: Ulusal vaka kodu | G1: Başlık | H1: Raporu Hazırlayan Kuruluş
A2: TR-1/1 | B2: Müselles hat sinyal/ATS emniyet mesafesi düzenlemesi | C2: 42261 | D2: Çetinkaya müselles hattı gibi yolları hattı cariye bağlı müselles hatlarda, yollardan birine tren kabul edileceği durumlarda, diğer yollara tren kabul edilmemesi hususunda mevzuat düzenlemesi yapılmalıdır. Veya trenlerin kırmızı sinyal ihlallerinde, makas limitine gelmeden durabilmesi için yolun faydalı uzunluğu da dikkate alınarak sinyal ile birlikte ATS yer magneti; hız, eğim ve fren yüzdesine göre hesaplanan fren mesafesi kadar geriye çekilmelidir. | E2: Türkçe | F2: TR-1 | G2: =VLOOKUP(F2, İncelemeler!C:E, 3, FALSE) -> Çarpışma, 05.07.2015, Çetinkaya | H2: UKİK TR_KAİK
A3: TR-1/2 | B3: Lokomotif kumanda kabinine görüntü/ses kayıt sistemi | C3: 42261 | D3: Lokomotiflerin kumanda kabinine ses ve görüntü kaydeden kamera kayıt sistemi konulmalıdır. | E3: Türkçe | F3: TR-1 | G3: =VLOOKUP(F3, İncelemeler!C:E, 3, FALSE) -> Çarpışma, 05.07.2015, Çetinkaya | H3: UKİK TR_KAİK
A4: TR-1/3 | B4: Makinist bröve ve görev tanımı düzenlemesi | C4: 42261 | D4: “Yardımcı Makinist” unvanının kaldırılması sonucu lokomotiflere “makinist” unvanlı iki personel görevlendirilmektedir. Trenlerde lokomotifleri sürmek üzere görevlendirilen, 1. makinist ve 2. makinist olarak isimlendirilen makinistlerin bröve durumları, görev, yetki ve sorumlulukları ile yapacağı işler mevzuatta açık olarak düzenlenmelidir. | E4: Türkçe | F4: TR-1 | G4: =VLOOKUP(F4, İncelemeler!C:E, 3, FALSE) -> Çarpışma, 05.07.2015, Çetinkaya | H4: UKİK TR_KAİK
A5: TR-1/4 | B5: Telsiz konuşma kalıpları denetimi | C5: 42261 | D5: Trenler ile istasyonlar arasında telsizle yapılan haberleşmede, konuşmaların TCDD Telsiz Yönetmeliğinde belirtilen konuşma kalıplarına uygunluğu denetlenmelidir. | E5: Türkçe | F5: TR-1 | G5: =VLOOKUP(F5, İncelemeler!C:E, 3, FALSE) -> Çarpışma, 05.07.2015, Çetinkaya | H5: UKİK TR_KAİK
A6: TR-1/5 | B6: Telsiz haberleşme yükümlülüğü netleştirilmesi | C6: 42261 | D6: TCDD Telsiz Yönetmeliğinde, tren trafiği ile ilgili konularda, telsizle haberleşme yükümlülüğünün hangi koşullarda hangi makiniste ait olduğu açık olarak düzenlenmelidir. | E6: Türkçe | F6: TR-1 | G6: =VLOOKUP(F6, İncelemeler!C:E, 3, FALSE) -> Çarpışma, 05.07.2015, Çetinkaya | H6: UKİK TR_KAİK
A7: TR-2/1 | B7: Hemzemin geçit mevzuatı tanıtım eğitimi | C7: 42460 | D7: Doğrudan demiryolu sektöründe görev yapmayan Valilikler, Karayolları, İl Özel İdareleri, Belediyeler gibi mevzuatın görev verdiği Kurum/Kuruluşlara yönelik Demiryolu Hemzemin Geçitlerinde Alınacak Tedbirler ve Uygulama Esasları Hakkında Yönetmeliğini tanıtıcı ve bilgilendirici eğitim, çalıştay, seminer, panel gibi faaliyetlerde bulunulmalıdır. | E7: Türkçe | F7: TR-2 | G7: =VLOOKUP(F7, İncelemeler!C:E, 3, FALSE) -> Hemzemin geçit, 01.08.2015, Muş-Özden | H7: UKİK TR_KAİK
A8: TR-2/2 | B8: Hemzemin geçit bileşenlerinde kurumsal sorumluluk paylaşımı | C8: 42460 | D8: Kamu kurum ve kuruluşlarının görev sahaları, uzmanlık alanları dikkate alınarak hemzemin geçitlerin demiryolu hattı üzerindeki bileşenleri (Ray devreleri, bariyerler, makiniste yönelik işaretler, kaplamalar vb.) demiryolu altyapı işletmecisinin, karayolu üzerindeki bileşenlerin ise (Yaklaşım yolları, sinyaller, karayolu işaretleri vb.) karayolunu işleten kurumların uhdesine bırakılması gibi sahada uygulanabilirliği kolay ve anlaşılır somut çözümler getirilmesi uygun olacaktır. | E8: Türkçe | F8: TR-2 | G8: =VLOOKUP(F8, İncelemeler!C:E, 3, FALSE) -> Hemzemin geçit, 01.08.2015, Muş-Özden | H8: UKİK TR_KAİK
A9: TR-2/3 | B9: Yaklaşım levhalarına 'Dikkat Demiryolu' ibaresi eklenmesi | C9: 42460 | D9: Demiryolu Hemzemin Geçitlerinde Alınacak Tedbirler ve Uygulama Esasları Hakkında Yönetmeliğin “Genel fiziki standartlar” kenar başlıklı 10 uncu maddesinin 1 inci fıkrasının (k) bendinin 2 nci alt bendi “Demiryolu hemzemin geçitlerde karayolu üzerindeki yaklaşım levhaları kapsamında yer alan lokomotif veya bariyer işaretinin altına dikdörtgen levha içerisine “DİKKAT DEMİRYOLU” ibaresi eklenir.” şeklinde olup karayolu taşıt sürücülerinin farkındalığının artırılması amacıyla bu hükmün tüm hemzemin geçitleri kapsayacak şekilde uygulanabilmesine yönelik mevzuat değişikliği yapılmalıdır. | E9: Türkçe | F9: TR-2 | G9: =VLOOKUP(F9, İncelemeler!C:E, 3, FALSE) -> Hemzemin geçit, 01.08.2015, Muş-Özden | H9: UKİK TR_KAİK
A10: TR-2/4 | B10: Hemzemin geçit yaklaşımına yol yazısı 'DUR' eklenmesi | C10: 42460 | D10: Karayolu taşıt sürücülerinin dikkatinin artırılması amacıyla hemzemin geçit yaklaşım yollarında “DUR” çizgisinden önce gelmek üzere karayolu zeminine “DUR” yazısının yazılmasına yönelik mevzuat değişikliği yapılmalıdır. | E10: Türkçe | F10: TR-2 | G10: =VLOOKUP(F10, İncelemeler!C:E, 3, FALSE) -> Hemzemin geçit, 01.08.2015, Muş-Özden | H10: UKİK TR_KAİK
A11: TR-2/5 | B11: Hemzemin geçit koruma/bakım yönetmeliklerinin güncellenmesi | C11: 42460 | D11: 3/1/1996 Tarihli Hemzemin Geçitlerin Korunması, Bakımı ve Yönetimi ile Geçit Bekçilerinin Görevlerine Ait Yönetmelik, 3/7/2013 Tarihli Demiryolu Hemzemin Geçitlerinde Alınacak Tedbirler ve Uygulama Esasları Hakkında Yönetmeliğe ve güncel diğer mevzuata uygun hale getirilecek şekilde yeniden düzenlenmelidir. | E11: Türkçe | F11: TR-2 | G11: =VLOOKUP(F11, İncelemeler!C:E, 3, FALSE) -> Hemzemin geçit, 01.08.2015, Muş-Özden | H11: UKİK TR_KAİK
A12: TR-2/6 | B12: Kaza mahalli hemzemin geçidin mevzuata uygunlaştırılması | C12: 42460 | D12: Kazanın meydana geldiği hemzemin geçidin mevzuata uygun hale getirilmesi sağlanmalıdır. | E12: Türkçe | F12: TR-2 | G12: =VLOOKUP(F12, İncelemeler!C:E, 3, FALSE) -> Hemzemin geçit, 01.08.2015, Muş-Özden | H12: UKİK TR_KAİK
A13: TR-2/7 | B13: Lokomotiflere görüntü/ses kayıt sistemi | C13: 42460 | D13: Lokomotiflere ses ve görüntü kaydeden kamera kayıt sistemi konulmalıdır. | E13: Türkçe | F13: TR-2 | G13: =VLOOKUP(F13, İncelemeler!C:E, 3, FALSE) -> Hemzemin geçit, 01.08.2015, Muş-Özden | H13: UKİK TR_KAİK
... A431: TR-50/10 | B431: Ana Hat Lokomotifli Manevra Operasyonlarında Çift Makinist Kuralının İstisnasız Uygulanmasına Yönelik Operasyonel Ve Organizasyonel Tedbirler | C431: 46106 | D431: Ana hat lokomotifleri ile yürütülen manevralarda, aynı anda iki tren makinistinin bulunması kuralının istisnasız uygulanmasını sağlayacak operasyonel ve organizasyonel tedbirlerin geliştirilmesi. Gerekçe: Ana hat lokomotifleriyle yapılan manevralarda, görev paylaşımı ve karşılıklı kontrolün iki tren makinisti üzerinden fiilen sağlanması mümkün olur. Manevra sırasında karar verme, gözlem ve reaksiyon yükünün tek bir tren makinisti üzerinde toplanmasının önüne geçilir. Kuralın uygulanmasına ilişkin istisnaların, sahada örtük kabuller hâline gelmesi yerine kurumsal olarak önlenmesi desteklenir. Operasyonel ve organizasyonel tedbirler sayesinde, personel eksikliği veya zaman baskısı gibi nedenlerle emniyet bariyerinin zayıflatılması riski azaltılır. Bu yaklaşım, DTİ’nin emniyet yönetim sistemi kapsamında insan performansına dayalı riskleri çoklu bariyerlerle kontrol etmesini güçlendirir. | E431: Türkçe | F431: TR-50 | G431: =VLOOKUP(F431, İncelemeler!C:E, 3, FALSE) -> Çarpışma, 10.09.2025, Ulugüney-Hasançelebi | H431: UKİK TR_UEİM

Sheet Lookup
A1: TR | B1: EN
A2: Açık | B2: Open
A3: Kapalı | B3: Closed
A4: Yetersiz cevap | B4: Insufficient response
A5: Cevap bekleniyor | B5: Awaiting response
A6: Yeterli | B6: Adequate
A7: Yetersiz - eylem yok | B7: Inadequate - no action taken
A8: Yetersiz - kısmi eylem | B8: Inadequate - partial action
A9: Nedensel faktör (CaF) | B9: Causal factor
A10: Katkı faktörü (CoF) | B10: Contributing factor
A11: Sistemik faktör (SF) | B11: Systemic factor
A12: Çarpışma | B12: Collision
... A20: Gözlemlenen Faktör (GF) | B20: Additional observation
